BEGIN:VCALENDAR
VERSION:2.0
PRODID:-//Blockchain Beach - ECPv6.15.17//NONSGML v1.0//EN
CALSCALE:GREGORIAN
METHOD:PUBLISH
X-WR-CALNAME:Blockchain Beach
X-ORIGINAL-URL:https://www.blockchainbeach.com
X-WR-CALDESC:Events for Blockchain Beach
REFRESH-INTERVAL;VALUE=DURATION:PT1H
X-Robots-Tag:noindex
X-PUBLISHED-TTL:PT1H
BEGIN:VTIMEZONE
TZID:America/Los_Angeles
BEGIN:DAYLIGHT
TZOFFSETFROM:-0800
TZOFFSETTO:-0700
TZNAME:PDT
DTSTART:20170312T100000
END:DAYLIGHT
BEGIN:STANDARD
TZOFFSETFROM:-0700
TZOFFSETTO:-0800
TZNAME:PST
DTSTART:20171105T090000
END:STANDARD
BEGIN:DAYLIGHT
TZOFFSETFROM:-0800
TZOFFSETTO:-0700
TZNAME:PDT
DTSTART:20180311T100000
END:DAYLIGHT
BEGIN:STANDARD
TZOFFSETFROM:-0700
TZOFFSETTO:-0800
TZNAME:PST
DTSTART:20181104T090000
END:STANDARD
BEGIN:DAYLIGHT
TZOFFSETFROM:-0800
TZOFFSETTO:-0700
TZNAME:PDT
DTSTART:20190310T100000
END:DAYLIGHT
BEGIN:STANDARD
TZOFFSETFROM:-0700
TZOFFSETTO:-0800
TZNAME:PST
DTSTART:20191103T090000
END:STANDARD
END:VTIMEZONE
BEGIN:VEVENT
DTSTART;TZID=America/Los_Angeles:20180419T180000
DTEND;TZID=America/Los_Angeles:20180419T200000
DTSTAMP:20260422T155321
CREATED:20180418T075738Z
LAST-MODIFIED:20180419T011648Z
UID:19480-1524160800-1524168000@www.blockchainbeach.com
SUMMARY:Verified Event: Women of Crypto: LA Happy Hour
DESCRIPTION:We’re gathering our LA based community to continue conversations\, incubate ideas\, and connect with the local community. \nIt’s casual and all levels are welcome. We’re opening the doors to the crypto/blockchain market so that all women feel comfortable in the space. \nFacebook RSVP Link: https://www.facebook.com/events/2046231069030263/ \nVerified Event: Representatives from Blockchain Beach have attended past Meetups from this event organizer with this event format.
URL:https://www.blockchainbeach.com/event/women-of-crypto-la-happy-hour/
LOCATION:SEED\, 1541 Ocean Ave\, Santa Monica\, CA\, 90401
CATEGORIES:Santa Monica,Women
END:VEVENT
BEGIN:VEVENT
DTSTART;TZID=America/Los_Angeles:20180418T120000
DTEND;TZID=America/Los_Angeles:20180418T140000
DTSTAMP:20260422T155321
CREATED:20180323T192442Z
LAST-MODIFIED:20180323T192442Z
UID:19124-1524052800-1524060000@www.blockchainbeach.com
SUMMARY:Coffee and Serious Dapp Programming - Intermediate Experts\, Bring your Projects
DESCRIPTION:We’ll be coding together\, sharing information and our projects. Perhaps mutually we can make better Dapps. If you are a complete beginner this is probably not the event for you. I’ll be having beginner events monthly as well. Otherwise if you’ve had a couple years of development experience and have worked with web apps and mobile apps and just getting started with dapps come on by. If you are a recruiter and don’t want to get your hands dirty this is also not your event. We are coming here to work and learn together for our mutual success. \nMeetup Event RSVP Link: https://www.meetup.com/westside-blockchain/events/chxvlpyxgbxb/ \nVerified Event: Representatives from Blockchain Beach have attended past Meetups from this event organizer with this event format.
URL:https://www.blockchainbeach.com/event/coffee-and-serious-dapp-programming-intermediate-experts-bring-your-projects/
LOCATION:Cafe 212 Pier\, 212 Pier Ave\, Santa Monica\, CA\, 90405
CATEGORIES:Developers,Santa Monica
END:VEVENT
BEGIN:VEVENT
DTSTART;TZID=America/Los_Angeles:20180417T190000
DTEND;TZID=America/Los_Angeles:20180417T210000
DTSTAMP:20260422T155321
CREATED:20180323T192132Z
LAST-MODIFIED:20180323T193418Z
UID:19122-1523991600-1523998800@www.blockchainbeach.com
SUMMARY:Verified Event: Crypto Traders Dinner Party
DESCRIPTION:Seth holds this Meetup on the back patio of Bareburger in Santa Monica. It allows for informal networking with people of all knowledge levels. The event is free\, but you pay for your own food and drinks. \nMeetup Event RSVP Link: https://www.meetup.com/Santa-Monica-Bitcoin-Meetup/events/gccfmpyxgbwb/ \nVerified Event: Representatives from Blockchain Beach have attended past Meetups from this event organizer with this event format.
URL:https://www.blockchainbeach.com/event/crypto-traders-dinner-party/
LOCATION:Bareburger\, 2732 Main St.\, Santa Monica\, CA\, 90405
CATEGORIES:Santa Monica
END:VEVENT
BEGIN:VEVENT
DTSTART;TZID=America/Los_Angeles:20180416T180000
DTEND;TZID=America/Los_Angeles:20180416T210000
DTSTAMP:20260422T155321
CREATED:20180323T193117Z
LAST-MODIFIED:20180323T193400Z
UID:19131-1523901600-1523912400@www.blockchainbeach.com
SUMMARY:Verified Event: Crypto Mondays
DESCRIPTION:This event is held in the upstairs space at 1212 Restaurant on the 3rd St. Promenade in Santa Monica. The event is very good for networking. Food and drinks are available for purchase. \nMeetup Event RSVP Link: https://www.meetup.com/Crypto-Mondays-L-A/events/zjrphpyxgbvb/ \nVerified Event: Representatives from Blockchain Beach have attended past Meetups from this event organizer with this event format.
URL:https://www.blockchainbeach.com/event/19131/
LOCATION:1212 Restaurant\, 1212 3rd Street Promenade\, Santa Monica\, CA\, 90401
CATEGORIES:Santa Monica
END:VEVENT
BEGIN:VEVENT
DTSTART;TZID=America/Los_Angeles:20180409T190000
DTEND;TZID=America/Los_Angeles:20180409T210000
DTSTAMP:20260422T155321
CREATED:20180323T194444Z
LAST-MODIFIED:20180323T194444Z
UID:19148-1523300400-1523307600@www.blockchainbeach.com
SUMMARY:Blockchain and Cryptocurrencies 101
DESCRIPTION:I will provide an intro worksheet to everyone to cover the basics at a high order level. This means we will focus on big issues and nothing too technical for the first meetup. We will be arranged into small groups based on the level of knowledge; a delegate will be selected in each group\, who feels they are beyond the basic level\, and will practice explaining the concepts to the other people in the group with the guidance of the worksheet. \nMeetup Event RSVP Link: https://www.meetup.com/Los-Angeles-Crypto/events/248547702/
URL:https://www.blockchainbeach.com/event/blockchain-and-cryptocurrencies-101/
LOCATION:Santa Monica Brew Works\, 1920 Colorado Ave C\, Santa Monica\, CA\, 90404
CATEGORIES:Santa Monica
END:VEVENT
BEGIN:VEVENT
DTSTART;TZID=America/Los_Angeles:20180409T180000
DTEND;TZID=America/Los_Angeles:20180409T210000
DTSTAMP:20260422T155321
CREATED:20180323T192927Z
LAST-MODIFIED:20180323T193319Z
UID:19129-1523296800-1523307600@www.blockchainbeach.com
SUMMARY:Verified Event: Crypto Mondays
DESCRIPTION:This event is held in the upstairs space at 1212 Restaurant on the 3rd St. Promenade in Santa Monica. The event is very good for networking. Food and drinks are available for purchase. \nMeetup Event RSVP Link: https://www.meetup.com/Crypto-Mondays-L-A/events/zjrphpyxgbmb/ \nVerified Event: Representatives from Blockchain Beach have attended past Meetups from this event organizer with this event format.
URL:https://www.blockchainbeach.com/event/crypto-mondays-3/
LOCATION:1212 Restaurant\, 1212 3rd Street Promenade\, Santa Monica\, CA\, 90401
CATEGORIES:Santa Monica
END:VEVENT
BEGIN:VEVENT
DTSTART;TZID=America/Los_Angeles:20180403T190000
DTEND;TZID=America/Los_Angeles:20180403T210000
DTSTAMP:20260422T155321
CREATED:20180321T053258Z
LAST-MODIFIED:20180321T053258Z
UID:19077-1522782000-1522789200@www.blockchainbeach.com
SUMMARY:Verified Event: Crypto Traders Dinner Party
DESCRIPTION:Seth holds this Meetup on the back patio of Bareburger in Santa Monica. It allows for informal networking with people of all knowledge levels. The event is free\, but you pay for your own food and drinks. \nMeetup Event RSVP Link: https://www.meetup.com/Santa-Monica-Bitcoin-Meetup/events/248872065/ \nVerified Event: Representatives from Blockchain Beach have attended past Meetups from this event organizer on this topic.
URL:https://www.blockchainbeach.com/event/verified-event-crypto-traders-dinner-party-3/
LOCATION:Bareburger\, 2732 Main St.\, Santa Monica\, CA\, 90405
CATEGORIES:Santa Monica
END:VEVENT
BEGIN:VEVENT
DTSTART;TZID=America/Los_Angeles:20180402T180000
DTEND;TZID=America/Los_Angeles:20180402T210000
DTSTAMP:20260422T155321
CREATED:20180323T192749Z
LAST-MODIFIED:20180323T193350Z
UID:19127-1522692000-1522702800@www.blockchainbeach.com
SUMMARY:Verified Event: Crypto Mondays
DESCRIPTION:This event is held in the upstairs space at 1212 Restaurant on the 3rd St. Promenade in Santa Monica. The event is very good for networking. Food and drinks are available for purchase. \nMeetup Event RSVP Link: https://www.meetup.com/Crypto-Mondays-L-A/events/zjrphpyxgbdb/ \nVerified Event: Representatives from Blockchain Beach have attended past Meetups from this event organizer with this event format.
URL:https://www.blockchainbeach.com/event/crypto-mondays-2/
LOCATION:1212 Restaurant\, 1212 3rd Street Promenade\, Santa Monica\, CA\, 90401
CATEGORIES:Santa Monica
END:VEVENT
BEGIN:VEVENT
DTSTART;TZID=America/Los_Angeles:20180329T183000
DTEND;TZID=America/Los_Angeles:20180329T203000
DTSTAMP:20260422T155321
CREATED:20180322T215510Z
LAST-MODIFIED:20180322T215510Z
UID:19101-1522348200-1522355400@www.blockchainbeach.com
SUMMARY:ICO’S 101: How to Run a Token Sale
DESCRIPTION:Blockchain experts Justin Newton and Dawn Newton from Netki and Erick Herring\, CTO of Vynyl talk about their first-hand experience working with ICO’s from conceptual stage to compliant KYC/AML onboarding to token distribution. \nEvent RSVP Link: https://generalassemb.ly/education/ico-s-101-how-to-run-a-token-sale/los-angeles/48096 \nNote: Blockchain Beach has met the organizers of this event.
URL:https://www.blockchainbeach.com/event/icos-101-how-to-run-a-token-sale/
LOCATION:General Assembly Santa Monica\, 1520 2nd St\, Santa Monica\, CA\, 90401
CATEGORIES:Santa Monica
END:VEVENT
BEGIN:VEVENT
DTSTART;TZID=America/Los_Angeles:20180328T183000
DTEND;TZID=America/Los_Angeles:20180328T210000
DTSTAMP:20260422T155321
CREATED:20180320T032027Z
LAST-MODIFIED:20180320T032027Z
UID:19039-1522261800-1522270800@www.blockchainbeach.com
SUMMARY:Verified Event: Beginninng DApp Programming for Developers\, Ethereum\, JavaScript\, Solidity
DESCRIPTION:How does the Ethereum blockchain work? \nWhat is a DApp? \nHow can we interact with the Ethereum blockchain from a website? \nWe’ll go over the truffle petshop tutorial. And I’ll answer any questions you have. \nSome JavaScript experience is recommended. \nMeetup Event RSVP Link: https://www.meetup.com/westside-blockchain/events/248815352/ \nVerified Event: Representatives from Blockchain Beach have attended past Meetups from this event organizer with this event format.
URL:https://www.blockchainbeach.com/event/verified-event-beginninng-dapp-programming-for-developers-ethereum-javascript-solidity/
LOCATION:Philosophie\, 1615 16th St\, Santa Monica\, CA\, 90404
CATEGORIES:Santa Monica
END:VEVENT
BEGIN:VEVENT
DTSTART;TZID=America/Los_Angeles:20180328T180000
DTEND;TZID=America/Los_Angeles:20180328T200000
DTSTAMP:20260422T155321
CREATED:20180320T031715Z
LAST-MODIFIED:20180320T031715Z
UID:19036-1522260000-1522267200@www.blockchainbeach.com
SUMMARY:AUX Presents: Blockchain 102
DESCRIPTION:So you know a bit about Bitcoin\, but you’re looking to learn more: how does the blockchain actually work? What’s the difference between proof-of-work and proof-of-stake? How do Ethereum’s smart contracts work? In this meetup\, we’ll cover all these “blockchain 102” topics and more. \nMeetup Event RSVP Link: https://www.meetup.com/Los-Angeles-Bitcoin/events/248625929/
URL:https://www.blockchainbeach.com/event/aux-presents-blockchain-102-2/
LOCATION:TBD
CATEGORIES:Santa Monica
END:VEVENT
BEGIN:VEVENT
DTSTART;TZID=America/Los_Angeles:20180327T190000
DTEND;TZID=America/Los_Angeles:20180327T220000
DTSTAMP:20260422T155321
CREATED:20180309T032920Z
LAST-MODIFIED:20180309T032920Z
UID:18844-1522177200-1522188000@www.blockchainbeach.com
SUMMARY:Verified Event: Crypto Traders Dinner
DESCRIPTION:Seth holds this Meetup on the back patio of Bareburger in Santa Monica. It allows for informal networking with people of all knowledge levels. The event is free\, but you pay for your own food and drinks. \nMeetup Event RSVP Link: https://www.meetup.com/Santa-Monica-Bitcoin-Meetup/events/dkwxfpyxfbkc/ \nVerified Event: Representatives from Blockchain Beach have attended past Meetups from this event organizer on this topic.
URL:https://www.blockchainbeach.com/event/verified-event-crypto-traders-dinner-2/
LOCATION:Bareburger\, 2732 Main St.\, Santa Monica\, CA\, 90405
CATEGORIES:Santa Monica
END:VEVENT
BEGIN:VEVENT
DTSTART;TZID=America/Los_Angeles:20180327T180000
DTEND;TZID=America/Los_Angeles:20180327T210000
DTSTAMP:20260422T155321
CREATED:20180322T234430Z
LAST-MODIFIED:20180322T234430Z
UID:19111-1522173600-1522184400@www.blockchainbeach.com
SUMMARY:Blockchain Pitches & L.A. Tech Happy Hour @ Investor Festival
DESCRIPTION:Hear pitches by ambitious local startups present their innovations and discuss including the exciting ICO financing some are using to crowdfund the future. \nMeetup Event RSVP Link: https://www.meetup.com/Blockchain-Los-Angeles/events/249000607/ \nVerified Event: Representatives from Blockchain Beach have attended past Meetups from this event organizer with this event format.
URL:https://www.blockchainbeach.com/event/blockchain-pitches-l-a-tech-happy-hour-investor-festival/
LOCATION:Expert Dojo\, 395 Santa Monica Place #308\, Santa Monica\, CA\, 90401
CATEGORIES:Santa Monica
END:VEVENT
BEGIN:VEVENT
DTSTART;TZID=America/Los_Angeles:20180326T180000
DTEND;TZID=America/Los_Angeles:20180326T210000
DTSTAMP:20260422T155321
CREATED:20180309T030447Z
LAST-MODIFIED:20180309T030447Z
UID:18825-1522087200-1522098000@www.blockchainbeach.com
SUMMARY:Verified Event: Crypto Mondays
DESCRIPTION:This event is held in the upstairs space at 1212 Restaurant on the 3rd St. Promenade in Santa Monica. The event is very good for networking. Food and drinks are available for purchase. \nMeetup Event RSVP Link: https://www.meetup.com/Crypto-Mondays-L-A/events/248421891/ \nVerified Event: Representatives from Blockchain Beach have attended past Meetups from this event organizer with this event format.
URL:https://www.blockchainbeach.com/event/verified-event-crypto-mondays-3/
LOCATION:1212 Restaurant\, 1212 3rd Street Promenade\, Santa Monica\, CA\, 90401
CATEGORIES:Santa Monica
END:VEVENT
BEGIN:VEVENT
DTSTART;TZID=America/Los_Angeles:20180321T183000
DTEND;TZID=America/Los_Angeles:20180321T213000
DTSTAMP:20260422T155321
CREATED:20180320T013544Z
LAST-MODIFIED:20180320T013544Z
UID:19011-1521657000-1521667800@www.blockchainbeach.com
SUMMARY:Verified Event: Workcoin: Santa Monica Mixer
DESCRIPTION:Inviting the Santa Monica / Los Angeles Blockchain community to join us at the WorkCoin offices for an evening of Blockchain startups. \nThere will be 10 ICO startups. There is no fee for presenting: startups will be chosen based on merit. \nEventbrite RSVP Link: https://www.eventbrite.com/e/santa-monica-blockchain-mixer-tickets-43574731194?aff=es2 \nVerified Event: Representatives from Blockchain Beach have not attended this event\, but have met the organizers.
URL:https://www.blockchainbeach.com/event/verified-event-workcoin-santa-monica-mixer/
LOCATION:WorkCoin Office\, 1847 Centinela Ave.\, Santa Monica\, CA\, 90404
CATEGORIES:Santa Monica
END:VEVENT
BEGIN:VEVENT
DTSTART;TZID=America/Los_Angeles:20180319T180000
DTEND;TZID=America/Los_Angeles:20180319T210000
DTSTAMP:20260422T155321
CREATED:20180309T030230Z
LAST-MODIFIED:20180309T030230Z
UID:18823-1521482400-1521493200@www.blockchainbeach.com
SUMMARY:Verified Event: Crypto Mondays
DESCRIPTION:This event is held in the upstairs space at 1212 Restaurant on the 3rd St. Promenade in Santa Monica. The event is very good for networking. Food and drinks are available for purchase. \nMeetup Event RSVP Link: https://www.meetup.com/Crypto-Mondays-L-A/events/zjrphpyxfbzb/ \nVerified Event: Representatives from Blockchain Beach have attended past Meetups from this event organizer with this event format.
URL:https://www.blockchainbeach.com/event/verified-event-crypto-mondays-2/
LOCATION:1212 Restaurant\, 1212 3rd Street Promenade\, Santa Monica\, CA\, 90401
CATEGORIES:Santa Monica
END:VEVENT
BEGIN:VEVENT
DTSTART;TZID=America/Los_Angeles:20180313T190000
DTEND;TZID=America/Los_Angeles:20180313T220000
DTSTAMP:20260422T155321
CREATED:20180309T030659Z
LAST-MODIFIED:20180309T030659Z
UID:18827-1520967600-1520978400@www.blockchainbeach.com
SUMMARY:Verified Event: Crypto Traders Dinner
DESCRIPTION:Seth holds this Meetup on the back patio of Bareburger in Santa Monica. It allows for informal networking with people of all knowledge levels. The event is free\, but you pay for your own food and drinks. \nMeetup Event RSVP Link: https://www.meetup.com/Santa-Monica-Bitcoin-Meetup/events/247796971/ \nVerified Event: Representatives from Blockchain Beach have attended past Meetups from this event organizer on this topic.
URL:https://www.blockchainbeach.com/event/verified-event-crypto-traders-dinner/
LOCATION:Bareburger\, 2732 Main St.\, Santa Monica\, CA\, 90405
CATEGORIES:Santa Monica
END:VEVENT
BEGIN:VEVENT
DTSTART;TZID=America/Los_Angeles:20180312T180000
DTEND;TZID=America/Los_Angeles:20180312T210000
DTSTAMP:20260422T155321
CREATED:20180309T030102Z
LAST-MODIFIED:20180309T030102Z
UID:18821-1520877600-1520888400@www.blockchainbeach.com
SUMMARY:Verified Event: Crypto Mondays
DESCRIPTION:This event is held in the upstairs space at 1212 Restaurant on the 3rd St. Promenade in Santa Monica. The event is very good for networking. Food and drinks are available for purchase. \nMeetup Event RSVP Link: https://www.meetup.com/Crypto-Mondays-L-A/events/248277133/ \nVerified Event: Representatives from Blockchain Beach have attended past Meetups from this event organizer with this event format.
URL:https://www.blockchainbeach.com/event/verified-event-crypto-mondays/
LOCATION:1212 Restaurant\, 1212 3rd Street Promenade\, Santa Monica\, CA\, 90401
CATEGORIES:Santa Monica
END:VEVENT
BEGIN:VEVENT
DTSTART;TZID=America/Los_Angeles:20180310T140000
DTEND;TZID=America/Los_Angeles:20180310T150000
DTSTAMP:20260422T155321
CREATED:20180203T004000Z
LAST-MODIFIED:20180209T032058Z
UID:18151-1520690400-1520694000@www.blockchainbeach.com
SUMMARY:Crypto Incentives for the Gig Economy and Blockchain Manufacturing Supply Chain
DESCRIPTION:This Meetup is for anyone interested in “Blockchain Applications in the Industrial Manufacturing Supply Chain\n& Cryptocurrency Incentives for more responsive Just-in-Time Production.” \nMeetup Event RSVP Link: https://www.meetup.com/blockchain-beach/events/245895182/ \nNote: Representatives from Blockchain Beach have not attended an event from this organizer and it will include a presentation on a Supply Chain focused ICO.
URL:https://www.blockchainbeach.com/event/crypto-incentives-gig-economy-blockchain-manufacturing-supply-chain/
LOCATION:General Assembly Santa Monica\, 1520 2nd St\, Santa Monica\, CA\, 90401
CATEGORIES:ICOs,Santa Monica
END:VEVENT
BEGIN:VEVENT
DTSTART;TZID=America/Los_Angeles:20180308T080000
DTEND;TZID=America/Los_Angeles:20180308T170000
DTSTAMP:20260422T155321
CREATED:20180309T030903Z
LAST-MODIFIED:20180309T030903Z
UID:18829-1520496000-1520528400@www.blockchainbeach.com
SUMMARY:AUX Presents: Blockchain 102
DESCRIPTION:So you know a bit about Bitcoin\, but you’re looking to learn more: how does the blockchain actually work? What’s the difference between proof-of-work and proof-of-stake? How do Ethereum’s smart contracts work? In this meetup\, we’ll cover all these “blockchain 102” topics and more. \nMeetup Event RSVP Link: https://www.meetup.com/AUX-Token-Meetup/events/248483488/
URL:https://www.blockchainbeach.com/event/aux-presents-blockchain-102/
LOCATION:Spaces\, 730 Arizona Ave\, Santa Monica\, CA\, 90401
CATEGORIES:Santa Monica
END:VEVENT
BEGIN:VEVENT
DTSTART;TZID=America/Los_Angeles:20180307T190000
DTEND;TZID=America/Los_Angeles:20180307T230000
DTSTAMP:20260422T155321
CREATED:20180223T222912Z
LAST-MODIFIED:20180226T035456Z
UID:18600-1520449200-1520463600@www.blockchainbeach.com
SUMMARY:Verified Event: Real Estate and Blockchain
DESCRIPTION:Are you interested in Real Estate on the Blockchain? Owen and his attendees are working on real world applications and can tell you more. Or just come for networking. Food and Drink available for purchase. \nMeetup Event RSVP Link: https://www.meetup.com/Bitcoin-Blockchain-and-ICOs-in-Real-Estate/events/sphfkpyxfbkb/ \nVerified Event: Representatives from Blockchain Beach have attended past Meetups from this event organizer on this topic.
URL:https://www.blockchainbeach.com/event/real-estate-blockchain/
LOCATION:Novel Cafe\, 2507 Main St.\, Santa Monica\, CA\, 90405
CATEGORIES:Santa Monica
END:VEVENT
BEGIN:VEVENT
DTSTART;TZID=America/Los_Angeles:20180307T190000
DTEND;TZID=America/Los_Angeles:20180307T210000
DTSTAMP:20260422T155321
CREATED:20180221T031120Z
LAST-MODIFIED:20180221T031120Z
UID:18553-1520449200-1520456400@www.blockchainbeach.com
SUMMARY:LA Blockchain Developers
DESCRIPTION:This is an event for people who want to build Blockchain applications. Speakers include: \n1) Kevin\, Software Engineer\, SFOX will be talking about Lightning Network\n2) Jenny Seegers\, Head of Web Development at WorkCoin \nPizza will be served. \nMeetup Event RSVP Link: https://www.meetup.com/LA-Blockchain-Developers/events/247873503/ \nNote: Representatives from Blockchain Beach have not attended this event.
URL:https://www.blockchainbeach.com/event/la-blockchain-developers/
LOCATION:WorkCoin Office\, 1847 Centinela Ave.\, Santa Monica\, CA\, 90404
CATEGORIES:Developers,Santa Monica
END:VEVENT
BEGIN:VEVENT
DTSTART;TZID=America/Los_Angeles:20180306T183000
DTEND;TZID=America/Los_Angeles:20180306T203000
DTSTAMP:20260422T155321
CREATED:20180226T035342Z
LAST-MODIFIED:20180226T035834Z
UID:18610-1520361000-1520368200@www.blockchainbeach.com
SUMMARY:Verified Event: DApperNetwork Hack Night
DESCRIPTION:Are you a Dapp developer? Come introduce your project to other devs\, designers\, and product managers and work on it in a fun environment. Food and Drinks provided. \nThe DapperNetwork is a global community of early tech adopters building next generation decentralized apps with blockchain technology. \nMeetup Event RSVP Link: https://www.meetup.com/DApperNetwork/events/248127462/ \nVerified Event: Representatives from Blockchain Beach have attended past Meetups from this event organizer with this event format.
URL:https://www.blockchainbeach.com/event/verified-event-dappernetwork-hack-night/
LOCATION:Carbon Five\, 525 Colorado Ave\, Santa Monica\, CA\, 90401
CATEGORIES:Developers,Santa Monica
END:VEVENT
BEGIN:VEVENT
DTSTART;TZID=America/Los_Angeles:20180305T180000
DTEND;TZID=America/Los_Angeles:20180305T210000
DTSTAMP:20260422T155321
CREATED:20180302T005811Z
LAST-MODIFIED:20180302T005811Z
UID:18703-1520272800-1520283600@www.blockchainbeach.com
SUMMARY:Crypto Mondays
DESCRIPTION:This event is held in the upstairs space at 1212 Restaurant on the 3rd St. Promenade in Santa Monica. The event is very good for networking. Food and drinks are available for purchase. \nMeetup Event RSVP Link: https://www.meetup.com/Crypto-Mondays-L-A/events/248219993/ \nVerified Event: Representatives from Blockchain Beach have attended past Meetups from this event organizer with this event format.
URL:https://www.blockchainbeach.com/event/crypto-mondays/
LOCATION:1212 Restaurant\, 1212 3rd Street Promenade\, Santa Monica\, CA\, 90401
CATEGORIES:Santa Monica
END:VEVENT
BEGIN:VEVENT
DTSTART;TZID=America/Los_Angeles:20180227T193000
DTEND;TZID=America/Los_Angeles:20180227T210000
DTSTAMP:20260422T155321
CREATED:20180223T203851Z
LAST-MODIFIED:20180223T203851Z
UID:18596-1519759800-1519765200@www.blockchainbeach.com
SUMMARY:Verified Event: Crypto Traders Dinner Party
DESCRIPTION:Seth holds this Meetup on the back patio of Bareburger in Santa Monica. It allows for informal networking with people of all knowledge levels.  The event is free to attend\, but you pay for your own food and drinks. \nMeetup Event RSVP Link: https://www.meetup.com/Santa-Monica-Bitcoin-Meetup/events/247569054/ \nVerified Event: Representatives from Blockchain Beach have attended past Meetups from this event organizer on this topic.
URL:https://www.blockchainbeach.com/event/verified-event-crypto-traders-dinner-party-2/
LOCATION:Bareburger\, 2732 Main St.\, Santa Monica\, CA\, 90405
CATEGORIES:Santa Monica
END:VEVENT
BEGIN:VEVENT
DTSTART;TZID=America/Los_Angeles:20180226T180000
DTEND;TZID=America/Los_Angeles:20180226T210000
DTSTAMP:20260422T155321
CREATED:20180210T040926Z
LAST-MODIFIED:20180210T040926Z
UID:18331-1519668000-1519678800@www.blockchainbeach.com
SUMMARY:Verified Event: Crypto Mondays LA
DESCRIPTION:This event is held in the upstairs space at 1212 Restaurant on the 3rd St. Promenade in Santa Monica. The event is very good for networking. Food and drinks are available for purchase. \nMeetup Event RSVP Link: https://www.meetup.com/Crypto-Mondays-L-A/events/247565155/ \nVerified Event: Representatives from Blockchain Beach have attended past Meetups from this event organizer with this event format.
URL:https://www.blockchainbeach.com/event/verified-event-crypto-mondays-la-4/
LOCATION:1212 Restaurant\, 1212 3rd Street Promenade\, Santa Monica\, CA\, 90401
CATEGORIES:Santa Monica
END:VEVENT
BEGIN:VEVENT
DTSTART;TZID=America/Los_Angeles:20180221T183000
DTEND;TZID=America/Los_Angeles:20180221T210000
DTSTAMP:20260422T155321
CREATED:20180220T174008Z
LAST-MODIFIED:20180220T174008Z
UID:18541-1519237800-1519246800@www.blockchainbeach.com
SUMMARY:Investing in Startup and Crypto with Wavemaker Partners
DESCRIPTION:LA accelerator for Israeli companies\, Fusion LA\,  welcome Alon Goren – Venture Partner @ Wavemaker Partners for a fireside chat about investing in startups and digital currencies. \nMeetup Event RSVP Link: https://www.meetup.com/Fusion-LA/events/247557991/ \nNote: Representatives from Blockchain Beach have not attended events from this organizer\, but the guest speaker at this event is verified as reputable.
URL:https://www.blockchainbeach.com/event/investing-startup-crypto-wavemaker-partners/
LOCATION:Spaces\, 730 Arizona Ave\, Santa Monica\, CA\, 90401
CATEGORIES:ICOs,Santa Monica
END:VEVENT
BEGIN:VEVENT
DTSTART;TZID=America/Los_Angeles:20180219T180000
DTEND;TZID=America/Los_Angeles:20180219T210000
DTSTAMP:20260422T155321
CREATED:20180209T213031Z
LAST-MODIFIED:20180209T213031Z
UID:18320-1519063200-1519074000@www.blockchainbeach.com
SUMMARY:Verified Event: Crypto Mondays LA
DESCRIPTION:This event is held in the upstairs space at 1212 Restaurant on the 3rd St. Promenade in Santa Monica. The event is very good for networking. Food and drinks are available for purchase. \nMeetup Event RSVP Link: https://www.meetup.com/Crypto-Mondays-L-A/events/247568677/ \nVerified Event: Representatives from Blockchain Beach have attended past Meetups from this event organizer with this event format.
URL:https://www.blockchainbeach.com/event/verified-event-crypto-mondays-la-3/
LOCATION:1212 Restaurant\, 1212 3rd Street Promenade\, Santa Monica\, CA\, 90401
CATEGORIES:Santa Monica
END:VEVENT
BEGIN:VEVENT
DTSTART;TZID=America/Los_Angeles:20180213T190000
DTEND;TZID=America/Los_Angeles:20180213T210000
DTSTAMP:20260422T155321
CREATED:20180202T031112Z
LAST-MODIFIED:20180202T031112Z
UID:18102-1518548400-1518555600@www.blockchainbeach.com
SUMMARY:Verified Event: Crypto Traders Dinner Party
DESCRIPTION:Seth holds this Meetup on the back patio of Bareburger in Santa Monica. It allows for informal networking with people of all knowledge levels.  The event is free\, but you pay for your own food and drinks. \nMeetup Event RSVP Link: https://www.meetup.com/Santa-Monica-Bitcoin-Meetup/events/246428385/ \nVerified Event: Representatives from Blockchain Beach have attended past Meetups from this event organizer on this topic. \n 
URL:https://www.blockchainbeach.com/event/verified-event-crypto-traders-dinner-party/
LOCATION:Bareburger\, 2732 Main St.\, Santa Monica\, CA\, 90405
CATEGORIES:Santa Monica
END:VEVENT
BEGIN:VEVENT
DTSTART;TZID=America/Los_Angeles:20180212T180000
DTEND;TZID=America/Los_Angeles:20180212T210000
DTSTAMP:20260422T155321
CREATED:20180206T220350Z
LAST-MODIFIED:20180206T220350Z
UID:18224-1518458400-1518469200@www.blockchainbeach.com
SUMMARY:Verified Event: Crypto Mondays LA
DESCRIPTION:This event is held in the upstairs space at 1212 Restaurant on the 3rd St. Promenade in Santa Monica. The event is very good for networking. Food and drinks are available for purchase. \nMeetup Event RSVP Link: https://www.meetup.com/Crypto-Mondays-L-A/events/247550205/ \nVerified Event: Representatives from Blockchain Beach have attended past Meetups from this event organizer with this event format.
URL:https://www.blockchainbeach.com/event/verified-event-crypto-mondays-la-2/
LOCATION:1212 Restaurant\, 1212 3rd Street Promenade\, Santa Monica\, CA\, 90401
CATEGORIES:Santa Monica
END:VEVENT
END:VCALENDAR