BEGIN:VCALENDAR
VERSION:2.0
PRODID:-//Blockchain Beach - ECPv6.15.17//NONSGML v1.0//EN
CALSCALE:GREGORIAN
METHOD:PUBLISH
X-ORIGINAL-URL:https://www.blockchainbeach.com
X-WR-CALDESC:Events for Blockchain Beach
REFRESH-INTERVAL;VALUE=DURATION:PT1H
X-Robots-Tag:noindex
X-PUBLISHED-TTL:PT1H
BEGIN:VTIMEZONE
TZID:America/Los_Angeles
BEGIN:DAYLIGHT
TZOFFSETFROM:-0800
TZOFFSETTO:-0700
TZNAME:PDT
DTSTART:20170312T100000
END:DAYLIGHT
BEGIN:STANDARD
TZOFFSETFROM:-0700
TZOFFSETTO:-0800
TZNAME:PST
DTSTART:20171105T090000
END:STANDARD
BEGIN:DAYLIGHT
TZOFFSETFROM:-0800
TZOFFSETTO:-0700
TZNAME:PDT
DTSTART:20180311T100000
END:DAYLIGHT
BEGIN:STANDARD
TZOFFSETFROM:-0700
TZOFFSETTO:-0800
TZNAME:PST
DTSTART:20181104T090000
END:STANDARD
BEGIN:DAYLIGHT
TZOFFSETFROM:-0800
TZOFFSETTO:-0700
TZNAME:PDT
DTSTART:20190310T100000
END:DAYLIGHT
BEGIN:STANDARD
TZOFFSETFROM:-0700
TZOFFSETTO:-0800
TZNAME:PST
DTSTART:20191103T090000
END:STANDARD
END:VTIMEZONE
BEGIN:VEVENT
DTSTART;TZID=America/Los_Angeles:20180307T190000
DTEND;TZID=America/Los_Angeles:20180307T230000
DTSTAMP:20260422T190759
CREATED:20180223T222912Z
LAST-MODIFIED:20180226T035456Z
UID:18600-1520449200-1520463600@www.blockchainbeach.com
SUMMARY:Verified Event: Real Estate and Blockchain
DESCRIPTION:Are you interested in Real Estate on the Blockchain? Owen and his attendees are working on real world applications and can tell you more. Or just come for networking. Food and Drink available for purchase. \nMeetup Event RSVP Link: https://www.meetup.com/Bitcoin-Blockchain-and-ICOs-in-Real-Estate/events/sphfkpyxfbkb/ \nVerified Event: Representatives from Blockchain Beach have attended past Meetups from this event organizer on this topic.
URL:https://www.blockchainbeach.com/event/real-estate-blockchain/
LOCATION:Novel Cafe\, 2507 Main St.\, Santa Monica\, CA\, 90405
CATEGORIES:Santa Monica
END:VEVENT
BEGIN:VEVENT
DTSTART;TZID=America/Los_Angeles:20180307T190000
DTEND;TZID=America/Los_Angeles:20180307T210000
DTSTAMP:20260422T190759
CREATED:20180221T031120Z
LAST-MODIFIED:20180221T031120Z
UID:18553-1520449200-1520456400@www.blockchainbeach.com
SUMMARY:LA Blockchain Developers
DESCRIPTION:This is an event for people who want to build Blockchain applications. Speakers include: \n1) Kevin\, Software Engineer\, SFOX will be talking about Lightning Network\n2) Jenny Seegers\, Head of Web Development at WorkCoin \nPizza will be served. \nMeetup Event RSVP Link: https://www.meetup.com/LA-Blockchain-Developers/events/247873503/ \nNote: Representatives from Blockchain Beach have not attended this event.
URL:https://www.blockchainbeach.com/event/la-blockchain-developers/
LOCATION:WorkCoin Office\, 1847 Centinela Ave.\, Santa Monica\, CA\, 90404
CATEGORIES:Developers,Santa Monica
END:VEVENT
BEGIN:VEVENT
DTSTART;TZID=America/Los_Angeles:20180306T183000
DTEND;TZID=America/Los_Angeles:20180306T203000
DTSTAMP:20260422T190759
CREATED:20180226T035342Z
LAST-MODIFIED:20180226T035834Z
UID:18610-1520361000-1520368200@www.blockchainbeach.com
SUMMARY:Verified Event: DApperNetwork Hack Night
DESCRIPTION:Are you a Dapp developer? Come introduce your project to other devs\, designers\, and product managers and work on it in a fun environment. Food and Drinks provided. \nThe DapperNetwork is a global community of early tech adopters building next generation decentralized apps with blockchain technology. \nMeetup Event RSVP Link: https://www.meetup.com/DApperNetwork/events/248127462/ \nVerified Event: Representatives from Blockchain Beach have attended past Meetups from this event organizer with this event format.
URL:https://www.blockchainbeach.com/event/verified-event-dappernetwork-hack-night/
LOCATION:Carbon Five\, 525 Colorado Ave\, Santa Monica\, CA\, 90401
CATEGORIES:Developers,Santa Monica
END:VEVENT
BEGIN:VEVENT
DTSTART;TZID=America/Los_Angeles:20180305T180000
DTEND;TZID=America/Los_Angeles:20180305T210000
DTSTAMP:20260422T190759
CREATED:20180302T005811Z
LAST-MODIFIED:20180302T005811Z
UID:18703-1520272800-1520283600@www.blockchainbeach.com
SUMMARY:Crypto Mondays
DESCRIPTION:This event is held in the upstairs space at 1212 Restaurant on the 3rd St. Promenade in Santa Monica. The event is very good for networking. Food and drinks are available for purchase. \nMeetup Event RSVP Link: https://www.meetup.com/Crypto-Mondays-L-A/events/248219993/ \nVerified Event: Representatives from Blockchain Beach have attended past Meetups from this event organizer with this event format.
URL:https://www.blockchainbeach.com/event/crypto-mondays/
LOCATION:1212 Restaurant\, 1212 3rd Street Promenade\, Santa Monica\, CA\, 90401
CATEGORIES:Santa Monica
END:VEVENT
BEGIN:VEVENT
DTSTART;TZID=America/Los_Angeles:20180227T193000
DTEND;TZID=America/Los_Angeles:20180227T210000
DTSTAMP:20260422T190759
CREATED:20180223T203851Z
LAST-MODIFIED:20180223T203851Z
UID:18596-1519759800-1519765200@www.blockchainbeach.com
SUMMARY:Verified Event: Crypto Traders Dinner Party
DESCRIPTION:Seth holds this Meetup on the back patio of Bareburger in Santa Monica. It allows for informal networking with people of all knowledge levels.  The event is free to attend\, but you pay for your own food and drinks. \nMeetup Event RSVP Link: https://www.meetup.com/Santa-Monica-Bitcoin-Meetup/events/247569054/ \nVerified Event: Representatives from Blockchain Beach have attended past Meetups from this event organizer on this topic.
URL:https://www.blockchainbeach.com/event/verified-event-crypto-traders-dinner-party-2/
LOCATION:Bareburger\, 2732 Main St.\, Santa Monica\, CA\, 90405
CATEGORIES:Santa Monica
END:VEVENT
BEGIN:VEVENT
DTSTART;TZID=America/Los_Angeles:20180226T180000
DTEND;TZID=America/Los_Angeles:20180226T210000
DTSTAMP:20260422T190759
CREATED:20180210T040926Z
LAST-MODIFIED:20180210T040926Z
UID:18331-1519668000-1519678800@www.blockchainbeach.com
SUMMARY:Verified Event: Crypto Mondays LA
DESCRIPTION:This event is held in the upstairs space at 1212 Restaurant on the 3rd St. Promenade in Santa Monica. The event is very good for networking. Food and drinks are available for purchase. \nMeetup Event RSVP Link: https://www.meetup.com/Crypto-Mondays-L-A/events/247565155/ \nVerified Event: Representatives from Blockchain Beach have attended past Meetups from this event organizer with this event format.
URL:https://www.blockchainbeach.com/event/verified-event-crypto-mondays-la-4/
LOCATION:1212 Restaurant\, 1212 3rd Street Promenade\, Santa Monica\, CA\, 90401
CATEGORIES:Santa Monica
END:VEVENT
BEGIN:VEVENT
DTSTART;TZID=America/Los_Angeles:20180221T183000
DTEND;TZID=America/Los_Angeles:20180221T210000
DTSTAMP:20260422T190759
CREATED:20180220T174008Z
LAST-MODIFIED:20180220T174008Z
UID:18541-1519237800-1519246800@www.blockchainbeach.com
SUMMARY:Investing in Startup and Crypto with Wavemaker Partners
DESCRIPTION:LA accelerator for Israeli companies\, Fusion LA\,  welcome Alon Goren – Venture Partner @ Wavemaker Partners for a fireside chat about investing in startups and digital currencies. \nMeetup Event RSVP Link: https://www.meetup.com/Fusion-LA/events/247557991/ \nNote: Representatives from Blockchain Beach have not attended events from this organizer\, but the guest speaker at this event is verified as reputable.
URL:https://www.blockchainbeach.com/event/investing-startup-crypto-wavemaker-partners/
LOCATION:Spaces\, 730 Arizona Ave\, Santa Monica\, CA\, 90401
CATEGORIES:ICOs,Santa Monica
END:VEVENT
BEGIN:VEVENT
DTSTART;TZID=America/Los_Angeles:20180219T180000
DTEND;TZID=America/Los_Angeles:20180219T210000
DTSTAMP:20260422T190759
CREATED:20180209T213031Z
LAST-MODIFIED:20180209T213031Z
UID:18320-1519063200-1519074000@www.blockchainbeach.com
SUMMARY:Verified Event: Crypto Mondays LA
DESCRIPTION:This event is held in the upstairs space at 1212 Restaurant on the 3rd St. Promenade in Santa Monica. The event is very good for networking. Food and drinks are available for purchase. \nMeetup Event RSVP Link: https://www.meetup.com/Crypto-Mondays-L-A/events/247568677/ \nVerified Event: Representatives from Blockchain Beach have attended past Meetups from this event organizer with this event format.
URL:https://www.blockchainbeach.com/event/verified-event-crypto-mondays-la-3/
LOCATION:1212 Restaurant\, 1212 3rd Street Promenade\, Santa Monica\, CA\, 90401
CATEGORIES:Santa Monica
END:VEVENT
BEGIN:VEVENT
DTSTART;TZID=America/Los_Angeles:20180213T190000
DTEND;TZID=America/Los_Angeles:20180213T210000
DTSTAMP:20260422T190759
CREATED:20180202T031112Z
LAST-MODIFIED:20180202T031112Z
UID:18102-1518548400-1518555600@www.blockchainbeach.com
SUMMARY:Verified Event: Crypto Traders Dinner Party
DESCRIPTION:Seth holds this Meetup on the back patio of Bareburger in Santa Monica. It allows for informal networking with people of all knowledge levels.  The event is free\, but you pay for your own food and drinks. \nMeetup Event RSVP Link: https://www.meetup.com/Santa-Monica-Bitcoin-Meetup/events/246428385/ \nVerified Event: Representatives from Blockchain Beach have attended past Meetups from this event organizer on this topic. \n 
URL:https://www.blockchainbeach.com/event/verified-event-crypto-traders-dinner-party/
LOCATION:Bareburger\, 2732 Main St.\, Santa Monica\, CA\, 90405
CATEGORIES:Santa Monica
END:VEVENT
BEGIN:VEVENT
DTSTART;TZID=America/Los_Angeles:20180212T180000
DTEND;TZID=America/Los_Angeles:20180212T210000
DTSTAMP:20260422T190759
CREATED:20180206T220350Z
LAST-MODIFIED:20180206T220350Z
UID:18224-1518458400-1518469200@www.blockchainbeach.com
SUMMARY:Verified Event: Crypto Mondays LA
DESCRIPTION:This event is held in the upstairs space at 1212 Restaurant on the 3rd St. Promenade in Santa Monica. The event is very good for networking. Food and drinks are available for purchase. \nMeetup Event RSVP Link: https://www.meetup.com/Crypto-Mondays-L-A/events/247550205/ \nVerified Event: Representatives from Blockchain Beach have attended past Meetups from this event organizer with this event format.
URL:https://www.blockchainbeach.com/event/verified-event-crypto-mondays-la-2/
LOCATION:1212 Restaurant\, 1212 3rd Street Promenade\, Santa Monica\, CA\, 90401
CATEGORIES:Santa Monica
END:VEVENT
BEGIN:VEVENT
DTSTART;TZID=America/Los_Angeles:20180205T180000
DTEND;TZID=America/Los_Angeles:20180205T210000
DTSTAMP:20260422T190759
CREATED:20180201T094545Z
LAST-MODIFIED:20180201T095011Z
UID:18019-1517853600-1517864400@www.blockchainbeach.com
SUMMARY:Verified Event: Crypto Mondays LA
DESCRIPTION:This event is held in the upstairs space at 1212 Restaurant on the 3rd St. Promenade in Santa Monica. The event is very good for networking. Food and drinks are available for purchase. \nMeetup Event RSVP Link: https://www.meetup.com/Crypto-Mondays-L-A/events/247312589/ \nVerified Event: Representatives from Blockchain Beach have attended past Meetups from this event organizer with this event format.
URL:https://www.blockchainbeach.com/event/verified-event-crypto-mondays-la/
LOCATION:1212 Restaurant\, 1212 3rd Street Promenade\, Santa Monica\, CA\, 90401
CATEGORIES:Santa Monica
END:VEVENT
END:VCALENDAR