BEGIN:VCALENDAR
VERSION:2.0
PRODID:-//Blockchain Beach - ECPv6.15.17//NONSGML v1.0//EN
CALSCALE:GREGORIAN
METHOD:PUBLISH
X-ORIGINAL-URL:https://www.blockchainbeach.com
X-WR-CALDESC:Events for Blockchain Beach
REFRESH-INTERVAL;VALUE=DURATION:PT1H
X-Robots-Tag:noindex
X-PUBLISHED-TTL:PT1H
BEGIN:VTIMEZONE
TZID:America/Los_Angeles
BEGIN:DAYLIGHT
TZOFFSETFROM:-0800
TZOFFSETTO:-0700
TZNAME:PDT
DTSTART:20170312T100000
END:DAYLIGHT
BEGIN:STANDARD
TZOFFSETFROM:-0700
TZOFFSETTO:-0800
TZNAME:PST
DTSTART:20171105T090000
END:STANDARD
BEGIN:DAYLIGHT
TZOFFSETFROM:-0800
TZOFFSETTO:-0700
TZNAME:PDT
DTSTART:20180311T100000
END:DAYLIGHT
BEGIN:STANDARD
TZOFFSETFROM:-0700
TZOFFSETTO:-0800
TZNAME:PST
DTSTART:20181104T090000
END:STANDARD
BEGIN:DAYLIGHT
TZOFFSETFROM:-0800
TZOFFSETTO:-0700
TZNAME:PDT
DTSTART:20190310T100000
END:DAYLIGHT
BEGIN:STANDARD
TZOFFSETFROM:-0700
TZOFFSETTO:-0800
TZNAME:PST
DTSTART:20191103T090000
END:STANDARD
END:VTIMEZONE
BEGIN:VEVENT
DTSTART;TZID=America/Los_Angeles:20180212T180000
DTEND;TZID=America/Los_Angeles:20180212T210000
DTSTAMP:20260425T083627
CREATED:20180206T222037Z
LAST-MODIFIED:20180206T222037Z
UID:18226-1518458400-1518469200@www.blockchainbeach.com
SUMMARY:Verified Event: Century City Bitcoin with Tone Vays
DESCRIPTION:Anders Kargaard hosts a series of Meetups in Century City in the lobby theater at the WeWork Constellation. This week\, he is joined by former Wall Street veteran\, Tone Vays. Tone hosts a popular YouTube channel where he focuses on Technical Analysis of the digital currency markets and will be filming a live streamed show for the attendees of this Meetup. \nMeetup Event RSVP Link: https://www.meetup.com/Los-Angeles-Century-City-Bitcoin/events/247556064/. \nVerified Event: Representatives from Blockchain Beach have attended past Meetups from this event organizer on this topic.
URL:https://www.blockchainbeach.com/event/verified-event-century-city-bitcoin-tone-vays/
LOCATION:WeWork Constellation\, 10250 Constellation Blvd\, Los Angeles\, CA\, 90067
CATEGORIES:Bitcoin,century city,Workshop
END:VEVENT
BEGIN:VEVENT
DTSTART;TZID=America/Los_Angeles:20180212T180000
DTEND;TZID=America/Los_Angeles:20180212T210000
DTSTAMP:20260425T083627
CREATED:20180206T220350Z
LAST-MODIFIED:20180206T220350Z
UID:18224-1518458400-1518469200@www.blockchainbeach.com
SUMMARY:Verified Event: Crypto Mondays LA
DESCRIPTION:This event is held in the upstairs space at 1212 Restaurant on the 3rd St. Promenade in Santa Monica. The event is very good for networking. Food and drinks are available for purchase. \nMeetup Event RSVP Link: https://www.meetup.com/Crypto-Mondays-L-A/events/247550205/ \nVerified Event: Representatives from Blockchain Beach have attended past Meetups from this event organizer with this event format.
URL:https://www.blockchainbeach.com/event/verified-event-crypto-mondays-la-2/
LOCATION:1212 Restaurant\, 1212 3rd Street Promenade\, Santa Monica\, CA\, 90401
CATEGORIES:Santa Monica
END:VEVENT
BEGIN:VEVENT
DTSTART;TZID=America/Los_Angeles:20180208T180000
DTEND;TZID=America/Los_Angeles:20180208T210000
DTSTAMP:20260425T083627
CREATED:20180202T025851Z
LAST-MODIFIED:20180202T025851Z
UID:18098-1518112800-1518123600@www.blockchainbeach.com
SUMMARY:Bitcoin San Diego: Bitcoin and Appetizers
DESCRIPTION:Casual meetup to discuss Bitcoin and other blockchain technologies. \nNote: Representatives from Blockchain Beach have not attended this event\, but this group has recurring events with high RSVP numbers and solid message board comments. They also have a telegram chat\, if you want to ask any questions before attending: https://t.me/joinchat/AAAAAALD_oRZcccould3Aw. \nMeetup Event RSVP link: https://www.meetup.com/Bitcoin-San-Diego/events/246862254/
URL:https://www.blockchainbeach.com/event/bitcoin-san-diego-bitcoin-appetizers-2/
LOCATION:Protector Brewery\, 8680 Miralani Dr\, San Diego\, CA\, 92126
CATEGORIES:Bitcoin,San Diego
END:VEVENT
BEGIN:VEVENT
DTSTART;TZID=America/Los_Angeles:20180207T180000
DTEND;TZID=America/Los_Angeles:20180207T210000
DTSTAMP:20260425T083627
CREATED:20180115T222205Z
LAST-MODIFIED:20180204T054853Z
UID:17607-1518026400-1518037200@www.blockchainbeach.com
SUMMARY:Verified Event: EOS LA Episode II: Attack of the Killer dApps
DESCRIPTION:Timothy Lewis has been leading the EOS Los Angeles Meetup since November 2017. Events have varied from a large keynote presentation by BlockOne SVP\, Tech Operations David Moss to a small restaurant get together to celebrate the launch of the EOS Testnet. \nThis event will likely have a significant networking period with a EOS related presentation\, but that information has not been released at this time. \nMeetup Event RSVP Link: https://www.meetup.com/EOSLosAngeles/events/246756002/ \nVerified Event: Representatives from Blockchain Beach have attended past Meetups from this event organizer on this topic. \n 
URL:https://www.blockchainbeach.com/event/eos-la-episode-ii-attack-killer-dapps/
LOCATION:EOS LA\, 4227 Ince Blvd\, Los Angeles\, CA\, 90232
CATEGORIES:Culver City,EOS
END:VEVENT
BEGIN:VEVENT
DTSTART;TZID=America/Los_Angeles:20180206T190000
DTEND;TZID=America/Los_Angeles:20180206T203000
DTSTAMP:20260425T083627
CREATED:20180201T200011Z
LAST-MODIFIED:20180203T072640Z
UID:18033-1517943600-1517949000@www.blockchainbeach.com
SUMMARY:Verified Event: Bitcoin LA: VIRTUAL Meetup: Using Cryptocurrency Exchanges
DESCRIPTION:Toni O’Bryan hold small and large roundtable discussion Meetup groups\, usually at an apartment in Venice\, CA. They are great for beginnings to ask any questions and either Toni or one of the more educated attendees are always there to answer. Since not everyone can make the afternoon\, in-person sessions\, she also hosts online\, virtual Meetups like this one. The format is similar to the in-person sessions (this one will focus on using digital currency exchanges). \nTo join\, download the Zoom app and visit: https://zoom.us/j/5898353922 and enter Meeting ID: 589 835 3922 \n\n\nVerified Event: Representatives from Blockchain Beach have attended past Meetups from this event organizer with this event format.
URL:https://www.blockchainbeach.com/event/18033/
LOCATION:CA
CATEGORIES:Bitcoin,Online
END:VEVENT
BEGIN:VEVENT
DTSTART;TZID=America/Los_Angeles:20180206T180000
DTEND;TZID=America/Los_Angeles:20180206T210000
DTSTAMP:20260425T083627
CREATED:20180201T212734Z
LAST-MODIFIED:20180203T072819Z
UID:18044-1517940000-1517950800@www.blockchainbeach.com
SUMMARY:Verified Event: CryptoKitties Happy Hour
DESCRIPTION:Zach Sekar has been holding Tech Meetups and Events in LA for many years. This event features the creator of the popular Ethereum DApp/Game\, CryptoKitties. RSVP with the links below to meet them! \nMeetup Event Info Link: https://www.meetup.com/Blockchain-Los-Angeles/events/247318732/ \nMandatory Free RSVP Link: http://cryptococktails.tech \n\nVerified Event: Representatives from Blockchain Beach have attended past Meetups from this event organizer with this event format.
URL:https://www.blockchainbeach.com/event/cryptokitties-happy-hour/
LOCATION:Venice\, CA\, Emailed to participants who RSVP
CATEGORIES:CryptoKitties,Venice
END:VEVENT
BEGIN:VEVENT
DTSTART;TZID=America/Los_Angeles:20180206T180000
DTEND;TZID=America/Los_Angeles:20180206T200000
DTSTAMP:20260425T083627
CREATED:20180201T212121Z
LAST-MODIFIED:20180201T212855Z
UID:18040-1517940000-1517947200@www.blockchainbeach.com
SUMMARY:Discussion About Monero
DESCRIPTION:This Meetup is held at the beginning of each month to discuss the privacy focused coin\, Monero. \nMeetup Event RSVP Link: https://www.meetup.com/Monero-Los-Angeles/events/245985856/ \nNote: Representatives from Blockchain Beach have not attended this event\, but this group has consistent events with high RSVP numbers and solid message board comments.
URL:https://www.blockchainbeach.com/event/discussion-about-monero/
LOCATION:Yvonne B Burke Community Center\, 4750 W 62nd St\, Los Angeles\, CA\, 90056
CATEGORIES:Monero
END:VEVENT
BEGIN:VEVENT
DTSTART;TZID=America/Los_Angeles:20180205T190000
DTEND;TZID=America/Los_Angeles:20180205T220000
DTSTAMP:20260425T083627
CREATED:20180201T095835Z
LAST-MODIFIED:20180201T095835Z
UID:18024-1517857200-1517868000@www.blockchainbeach.com
SUMMARY:Verified Event: Hollywood Blockchain #4
DESCRIPTION:Held at different venues in the Hollywood area\, these events consist of networking and usually a panel of speakers. The speakers for this event include: \n\nJosh Smith from Vezt will discuss what it is like taking a company through the ICO process. (The Vezt ICO raised over 5M).\nGlen Berg from 11:11 will discuss what it is like investing in Pre-ICOs and experiencing the token investment after the ICO closes.\n\nThe panel portion of the evening will begin around 8pm. \nMeetup Event RSVP Link: https://www.meetup.com/Hollywood-Blockchain/events/246972611/ \nVerified Event: Representatives from Blockchain Beach have attended past Meetups from this event organizer on this topic.
URL:https://www.blockchainbeach.com/event/verified-event-hollywood-blockchain-4/
LOCATION:The Parlor\, 7250 Melrose Ave\, Los Angeles\, CA\, 90046
CATEGORIES:hollywood,ICOs
END:VEVENT
BEGIN:VEVENT
DTSTART;TZID=America/Los_Angeles:20180205T180000
DTEND;TZID=America/Los_Angeles:20180205T210000
DTSTAMP:20260425T083627
CREATED:20180201T094545Z
LAST-MODIFIED:20180201T095011Z
UID:18019-1517853600-1517864400@www.blockchainbeach.com
SUMMARY:Verified Event: Crypto Mondays LA
DESCRIPTION:This event is held in the upstairs space at 1212 Restaurant on the 3rd St. Promenade in Santa Monica. The event is very good for networking. Food and drinks are available for purchase. \nMeetup Event RSVP Link: https://www.meetup.com/Crypto-Mondays-L-A/events/247312589/ \nVerified Event: Representatives from Blockchain Beach have attended past Meetups from this event organizer with this event format.
URL:https://www.blockchainbeach.com/event/verified-event-crypto-mondays-la/
LOCATION:1212 Restaurant\, 1212 3rd Street Promenade\, Santa Monica\, CA\, 90401
CATEGORIES:Santa Monica
END:VEVENT
BEGIN:VEVENT
DTSTART;TZID=America/Los_Angeles:20180205T180000
DTEND;TZID=America/Los_Angeles:20180205T200000
DTSTAMP:20260425T083627
CREATED:20180201T100703Z
LAST-MODIFIED:20180203T072911Z
UID:18028-1517853600-1517860800@www.blockchainbeach.com
SUMMARY:Verified Event: Manhattan Beach Blockchain 0x4
DESCRIPTION:This is a causal Meetup for “crypto nerds” to get together in Manhattan Beach. \nMeetup Event RSVP Link: https://www.meetup.com/Manhattan-Beach-Blockchain/events/247121585/ \nVerified Event: Representatives from Blockchain Beach have not attended this event\, but this group has consistent events in this area. They posted their last Meetup on YouTube: https://www.youtube.com/watch?v=XWmlJgAKRiQ&feature=youtu.be \n 
URL:https://www.blockchainbeach.com/event/manhattan-beach-blockchain-0x4/
LOCATION:WeWork Manhattan Beach\, 1240 Rosecrans Ave\, Manhattan Beach\, CA\, 90266
END:VEVENT
BEGIN:VEVENT
DTSTART;TZID=America/Los_Angeles:20180204T120000
DTEND;TZID=America/Los_Angeles:20180204T150000
DTSTAMP:20260425T083627
CREATED:20180201T093719Z
LAST-MODIFIED:20180203T072707Z
UID:18016-1517745600-1517756400@www.blockchainbeach.com
SUMMARY:Verified Event: Bitcoin LA: Hands-on Workshop: Setting Up Hardware Wallets
DESCRIPTION:Toni O’Bryan hold small and large roundtable discussion Meetup groups\, usually at an apartment in Venice\, CA. They are great for beginnings to ask any questions and either Toni or one of the more educated attendees are always there to answer. \nThat format has lead to this special event\, where Toni and usual attendee\, Byron Yee\, will help attendees set up their Ledger Nano S or Trezor Hardware Wallet. This event is for those who have been able to configure their Hardware Wallet\, but are unsure of how to load their digital currencies. \nSpace is limited and there is a $50 cost to this event. Event RSVP Link: https://www.meetup.com/Bitcoin-Los-Angeles-Meetup/events/247361819/ \n\nVerified Event: Representatives from Blockchain Beach have attended past Meetups from this event organizer with this event format.
URL:https://www.blockchainbeach.com/event/bitcoin-la-meetup-hands-workshop-setting-hardware-wallets-2/
LOCATION:Anita’s Studio\, Revealed upon RSVP confirmation\, Venice\, CA\, 90291
CATEGORIES:Venice,Workshop
END:VEVENT
BEGIN:VEVENT
DTSTART;TZID=America/Los_Angeles:20180202T180000
DTEND;TZID=America/Los_Angeles:20180202T220000
DTSTAMP:20260425T083627
CREATED:20180201T093206Z
LAST-MODIFIED:20180202T231334Z
UID:18009-1517594400-1517608800@www.blockchainbeach.com
SUMMARY:Century City Bitcoin: Beer\, Burger & Bitcoin
DESCRIPTION:Anders Kargaard hosts a series of Meetups in Century City. He usually holds them at WeWork\, in the theater in the lobby\, but this event is a more casual dinner and drinks conversation. The event is free\, but you pay for your own food and drinks. \nMeetup Event RSVP Link: https://www.meetup.com/Los-Angeles-Century-City-Bitcoin/events/246940184/ \nNote: Although representatives from Blockchain Beach have attended this Meetup group\, we have yet to attend one of these dinner events.
URL:https://www.blockchainbeach.com/event/beer-burger-bitcoin/
LOCATION:Carmine’s Restaurant & Bar\, 10463 Santa Monica Blvd\, Los Angeles\, CA\, 90025
CATEGORIES:Bitcoin
END:VEVENT
BEGIN:VEVENT
DTSTART;TZID=America/Los_Angeles:20180201T190000
DTEND;TZID=America/Los_Angeles:20180201T213000
DTSTAMP:20260425T083627
CREATED:20180201T091014Z
LAST-MODIFIED:20180203T072727Z
UID:18003-1517511600-1517520600@www.blockchainbeach.com
SUMMARY:Verified Event: Bitcoin LA Meetup: Hands-on Workshop: Setting Up Hardware Wallets
DESCRIPTION:Toni O’Bryan hold small and large roundtable discussion Meetup groups\, usually at an apartment in Venice\, CA. They are great for beginnings to ask any questions and either Toni or one of the more educated attendees are always there to answer. \nThat format has lead to this special event\, where Toni and usual attendee\, Byron Yee\, will help attendees set up their Ledger Nano S or Trezor Hardware Wallet. This event is for those who have been able to configure their Hardware Wallet\, but are unsure of how to load their digital currencies. \nSpace is limited and there is a $50 cost to this event. Event RSVP Link: https://www.meetup.com/Bitcoin-Los-Angeles-Meetup/events/247361684/ \n\nVerified Event: Representatives from Blockchain Beach have attended past Meetups from this event organizer with this event format.
URL:https://www.blockchainbeach.com/event/bitcoin-la-meetup-hands-workshop-setting-hardware-wallets/
LOCATION:Anita’s Studio\, Revealed upon RSVP confirmation\, Venice\, CA\, 90291
CATEGORIES:Workshop
END:VEVENT
BEGIN:VEVENT
DTSTART;TZID=America/Los_Angeles:20180201T180000
DTEND;TZID=America/Los_Angeles:20180201T210000
DTSTAMP:20260425T083627
CREATED:20180201T085202Z
LAST-MODIFIED:20180202T025555Z
UID:17998-1517508000-1517518800@www.blockchainbeach.com
SUMMARY:Bitcoin San Diego: Bitcoin and Appetizers
DESCRIPTION:Casual meetup to discuss Bitcoin and other blockchain technologies. \nNote: Representatives from Blockchain Beach have not attended this event\, but this group has recurring events with high RSVP numbers and solid message board comments. They also have a telegram chat\, if you want to ask any questions before attending: https://t.me/joinchat/AAAAAALD_oRZcccould3Aw. \nMeetup Event RSVP link: https://www.meetup.com/Bitcoin-San-Diego/events/243973056/
URL:https://www.blockchainbeach.com/event/bitcoin-san-diego-bitcoin-appetizers/
LOCATION:Varanda\, 1020 West San Marcos Blvd.\, San Marcos\, CA\, 92078
CATEGORIES:Bitcoin,San Diego
END:VEVENT
END:VCALENDAR